BEGIN:VCALENDAR
VERSION:2.0
PRODID:-// - ECPv6.1.3//NONSGML v1.0//EN
CALSCALE:GREGORIAN
METHOD:PUBLISH
X-ORIGINAL-URL:https://ortalraisman.co.il
X-WR-CALDESC:Events for 
REFRESH-INTERVAL;VALUE=DURATION:PT1H
X-Robots-Tag:noindex
X-PUBLISHED-TTL:PT1H
BEGIN:VTIMEZONE
TZID:Europe/Moscow
BEGIN:STANDARD
TZOFFSETFROM:+0300
TZOFFSETTO:+0300
TZNAME:MSK
DTSTART:20240101T000000
END:STANDARD
END:VTIMEZONE
BEGIN:VEVENT
DTSTART;TZID=Europe/Moscow:20240828T093000
DTEND;TZID=Europe/Moscow:20240828T133000
DTSTAMP:20260425T021141
CREATED:20210218T085903Z
LAST-MODIFIED:20240805T141933Z
UID:27192-1724837400-1724851800@ortalraisman.co.il
SUMMARY:מרתון בדיני נזיקין
DESCRIPTION:אינכם בעלי הרשאות גישה מתאימות לתוכן זה!
URL:https://ortalraisman.co.il/event/%d7%9e%d7%a8%d7%aa%d7%95%d7%9f-%d7%91%d7%93%d7%99%d7%a0%d7%99-%d7%a0%d7%96%d7%99%d7%a7%d7%99%d7%9f/
CATEGORIES:מרתונים,קורס ההכנה לבחינת הלשכה
ATTACH;FMTTYPE=image/png:https://ortalraisman.co.il/wp-content/uploads/2021/01/דף-פנימי-03-1024x1024-1-150x160-1.png
END:VEVENT
END:VCALENDAR